BEGIN:VCALENDAR
VERSION:2.0
PRODID:-//Jönköpings Nämndemannaförening - ECPv6.15.19//NONSGML v1.0//EN
CALSCALE:GREGORIAN
METHOD:PUBLISH
X-ORIGINAL-URL:https://jnmf.nmrf.se
X-WR-CALDESC:Händelser för Jönköpings Nämndemannaförening
REFRESH-INTERVAL;VALUE=DURATION:PT1H
X-Robots-Tag:noindex
X-PUBLISHED-TTL:PT1H
BEGIN:VTIMEZONE
TZID:Europe/Stockholm
BEGIN:DAYLIGHT
TZOFFSETFROM:+0100
TZOFFSETTO:+0200
TZNAME:CEST
DTSTART:20240331T010000
END:DAYLIGHT
BEGIN:STANDARD
TZOFFSETFROM:+0200
TZOFFSETTO:+0100
TZNAME:CET
DTSTART:20241027T010000
END:STANDARD
BEGIN:DAYLIGHT
TZOFFSETFROM:+0100
TZOFFSETTO:+0200
TZNAME:CEST
DTSTART:20250330T010000
END:DAYLIGHT
BEGIN:STANDARD
TZOFFSETFROM:+0200
TZOFFSETTO:+0100
TZNAME:CET
DTSTART:20251026T010000
END:STANDARD
BEGIN:DAYLIGHT
TZOFFSETFROM:+0100
TZOFFSETTO:+0200
TZNAME:CEST
DTSTART:20260329T010000
END:DAYLIGHT
BEGIN:STANDARD
TZOFFSETFROM:+0200
TZOFFSETTO:+0100
TZNAME:CET
DTSTART:20261025T010000
END:STANDARD
END:VTIMEZONE
BEGIN:VEVENT
DTSTART;TZID=Europe/Stockholm:20250218T163000
DTEND;TZID=Europe/Stockholm:20250218T180000
DTSTAMP:20260421T235856
CREATED:20250121T172701Z
LAST-MODIFIED:20250121T172701Z
UID:1742-1739896200-1739901600@jnmf.nmrf.se
SUMMARY:Rundvandring på Tingsrätten
DESCRIPTION:Besök på tingsrätten 18 februari
URL:https://jnmf.nmrf.se/event/rundvandring-pa-tingsratten/
END:VEVENT
END:VCALENDAR