BEGIN:VCALENDAR
VERSION:2.0
PRODID:-//Jönköpings Nämndemannaförening - ECPv6.15.19//NONSGML v1.0//EN
CALSCALE:GREGORIAN
METHOD:PUBLISH
X-WR-CALNAME:Jönköpings Nämndemannaförening
X-ORIGINAL-URL:https://jnmf.nmrf.se
X-WR-CALDESC:Händelser för Jönköpings Nämndemannaförening
REFRESH-INTERVAL;VALUE=DURATION:PT1H
X-Robots-Tag:noindex
X-PUBLISHED-TTL:PT1H
BEGIN:VTIMEZONE
TZID:Europe/Stockholm
BEGIN:DAYLIGHT
TZOFFSETFROM:+0100
TZOFFSETTO:+0200
TZNAME:CEST
DTSTART:20230326T010000
END:DAYLIGHT
BEGIN:STANDARD
TZOFFSETFROM:+0200
TZOFFSETTO:+0100
TZNAME:CET
DTSTART:20231029T010000
END:STANDARD
BEGIN:DAYLIGHT
TZOFFSETFROM:+0100
TZOFFSETTO:+0200
TZNAME:CEST
DTSTART:20240331T010000
END:DAYLIGHT
BEGIN:STANDARD
TZOFFSETFROM:+0200
TZOFFSETTO:+0100
TZNAME:CET
DTSTART:20241027T010000
END:STANDARD
BEGIN:DAYLIGHT
TZOFFSETFROM:+0100
TZOFFSETTO:+0200
TZNAME:CEST
DTSTART:20250330T010000
END:DAYLIGHT
BEGIN:STANDARD
TZOFFSETFROM:+0200
TZOFFSETTO:+0100
TZNAME:CET
DTSTART:20251026T010000
END:STANDARD
END:VTIMEZONE
BEGIN:VEVENT
DTSTART;TZID=Europe/Stockholm:20241203T180000
DTEND;TZID=Europe/Stockholm:20241203T180000
DTSTAMP:20260422T033944
CREATED:20240613T142433Z
LAST-MODIFIED:20240613T142430Z
UID:1611-1733248800-1733248800@jnmf.nmrf.se
SUMMARY:Julavlutning med föreläsare
DESCRIPTION:Vår julavlutning är alltid ett trevligt inslag. Vi äter sällan julmat och det gör vi inte denna kväll heller. \nVi kommer starta med att få lyssna till Förundersökningsledare Joakim Adriansson från polisen som kommer och berättar om sitt arbete. \nEfter detta går vi ner till restaurangen och inmundigar en 2 rätters meny (förrätt och varmrätt).
URL:https://jnmf.nmrf.se/event/julavlutning-med-forelasare/
END:VEVENT
END:VCALENDAR