BEGIN:VCALENDAR
VERSION:2.0
PRODID:-//Jönköpings Nämndemannaförening - ECPv6.15.19//NONSGML v1.0//EN
CALSCALE:GREGORIAN
METHOD:PUBLISH
X-WR-CALNAME:Jönköpings Nämndemannaförening
X-ORIGINAL-URL:https://jnmf.nmrf.se
X-WR-CALDESC:Händelser för Jönköpings Nämndemannaförening
REFRESH-INTERVAL;VALUE=DURATION:PT1H
X-Robots-Tag:noindex
X-PUBLISHED-TTL:PT1H
BEGIN:VTIMEZONE
TZID:Europe/Stockholm
BEGIN:DAYLIGHT
TZOFFSETFROM:+0100
TZOFFSETTO:+0200
TZNAME:CEST
DTSTART:20250330T010000
END:DAYLIGHT
BEGIN:STANDARD
TZOFFSETFROM:+0200
TZOFFSETTO:+0100
TZNAME:CET
DTSTART:20251026T010000
END:STANDARD
BEGIN:DAYLIGHT
TZOFFSETFROM:+0100
TZOFFSETTO:+0200
TZNAME:CEST
DTSTART:20260329T010000
END:DAYLIGHT
BEGIN:STANDARD
TZOFFSETFROM:+0200
TZOFFSETTO:+0100
TZNAME:CET
DTSTART:20261025T010000
END:STANDARD
BEGIN:DAYLIGHT
TZOFFSETFROM:+0100
TZOFFSETTO:+0200
TZNAME:CEST
DTSTART:20270328T010000
END:DAYLIGHT
BEGIN:STANDARD
TZOFFSETFROM:+0200
TZOFFSETTO:+0100
TZNAME:CET
DTSTART:20271031T010000
END:STANDARD
END:VTIMEZONE
BEGIN:VEVENT
DTSTART;TZID=Europe/Stockholm:20260407T180000
DTEND;TZID=Europe/Stockholm:20260407T200000
DTSTAMP:20260420T234557
CREATED:20260216T091232Z
LAST-MODIFIED:20260216T091232Z
UID:1809-1775584800-1775592000@jnmf.nmrf.se
SUMMARY:Ambulanssjuksköterska Niklas Åkermo
DESCRIPTION:Niklas kommer och berättar hur de arbetar inom ambulanssjukvården i hårdare tider. Åker de ensamma ut på anrop eller arbetar de alltid tillsammans. \nArbetar de på ett annat sätt efter rättegången där en sjuksköterska mördades med kniv i Harmånger?
URL:https://jnmf.nmrf.se/event/ambulanssjukskoterska-niklas-akermo/
LOCATION:Savoy hotell\, Brunnsgatan 13-15\, Jönköping\, 55317\, Sweden
END:VEVENT
END:VCALENDAR