BEGIN:VCALENDAR
VERSION:2.0
PRODID:-//Jönköpings Nämndemannaförening - ECPv6.15.19//NONSGML v1.0//EN
CALSCALE:GREGORIAN
METHOD:PUBLISH
X-WR-CALNAME:Jönköpings Nämndemannaförening
X-ORIGINAL-URL:https://jnmf.nmrf.se
X-WR-CALDESC:Händelser för Jönköpings Nämndemannaförening
REFRESH-INTERVAL;VALUE=DURATION:PT1H
X-Robots-Tag:noindex
X-PUBLISHED-TTL:PT1H
BEGIN:VTIMEZONE
TZID:Europe/Stockholm
BEGIN:DAYLIGHT
TZOFFSETFROM:+0100
TZOFFSETTO:+0200
TZNAME:CEST
DTSTART:20230326T010000
END:DAYLIGHT
BEGIN:STANDARD
TZOFFSETFROM:+0200
TZOFFSETTO:+0100
TZNAME:CET
DTSTART:20231029T010000
END:STANDARD
BEGIN:DAYLIGHT
TZOFFSETFROM:+0100
TZOFFSETTO:+0200
TZNAME:CEST
DTSTART:20240331T010000
END:DAYLIGHT
BEGIN:STANDARD
TZOFFSETFROM:+0200
TZOFFSETTO:+0100
TZNAME:CET
DTSTART:20241027T010000
END:STANDARD
BEGIN:DAYLIGHT
TZOFFSETFROM:+0100
TZOFFSETTO:+0200
TZNAME:CEST
DTSTART:20250330T010000
END:DAYLIGHT
BEGIN:STANDARD
TZOFFSETFROM:+0200
TZOFFSETTO:+0100
TZNAME:CET
DTSTART:20251026T010000
END:STANDARD
END:VTIMEZONE
BEGIN:VEVENT
DTSTART;TZID=Europe/Stockholm:20241119T180000
DTEND;TZID=Europe/Stockholm:20241119T200000
DTSTAMP:20260422T091009
CREATED:20240613T141620Z
LAST-MODIFIED:20240613T141620Z
UID:1609-1732039200-1732046400@jnmf.nmrf.se
SUMMARY:Akilles förbundet (kvinnors våld mot män)
DESCRIPTION:Att män utövar våld mot kvinnor är något vi hör mycket om.  Men att det är tvärtom\, där kvinnor utövar våld på män hör vi inte lika mycket om i samhället. \nDenna kväll som faktiskt är internationella mansdagen ska vi få höra om Akillesjourens arbete. De vänder sig till män som är utsatta av sin fru eller sambo eller liknande.  Vi har ju haft kvinnojouren på besök som berättat om sitt arbete för kvinnorna i samhället som far illa. Nu tar vi och vänder på det hela och  får lyssna på den andra sidan\, som kanske inte är lika vanlig att höra talas om.
URL:https://jnmf.nmrf.se/event/akilles-forbundet-kvinnors-vald-mot-man/
END:VEVENT
END:VCALENDAR